Workbook
Name Imagem: HOME!$H$14
Name Imagem: #REF!

Sheet HOME
G23: Sobre
G24: Esta planilha foi desenvolvida para a verificação de dimensionamentos voltados a coberturas em estruturas de madeira, a sua elaboração ocorreu durante um Trabalho de Conclusão de Curso de graduação em Engenharia Civil.
G29: Os resultados dessa ferramenta são de responsabilidade do usuário.
J30: UFPI (2024)
G31: UFPI (2024) - Luis Enaiton Luz Oliveira
G32: Ismar Costa Lima Júnior - Engenheiro Civil
G33: Orientador: Eduardo Martins Fontes do Rêgo
G35: Contato
G36: Para sugestões ou correções sobre a planilha e outros assuntos
G37: luisenaiton@ufpi.edu.br
G38: ismar.jr.s20@gmail.com
G39: e_eduardofontes@ufpi.edu.br

Sheet DSB
B4: Dados de Entrada
B5: Dimensões da Planta de Cobertura
B6: Largura | C6: 6 | F6: Beiral | I6: 0.7
B8: Comprimento | C8: 20 | F8: Apoio(larg) | I8: 0.1
B10: Telhas
B11: Tipo de telha | F11: Portuguesa
B13: Inclinação Adotada | I13: 0.3
B15: Absorção | I15: 0.3
B17: Propriedades das Telhas
B18: Inclinação mínima | F18: =VLOOKUP(F11,AXB!M4:Q9,5,0) -> 0.3
B19: Galga recomendada | F19: =VLOOKUP(F11,AXB!M4:Q9,4,0) -> 0.336
B20: Rendimento médio | F20: =VLOOKUP(F11,AXB!M4:Q9,2,0) -> 16
B21: Peso por elemento | F21: =VLOOKUP(F11,AXB!M4:Q9,3,0) -> 2.4
B23: Trama e Terças - Dimensões
C24: Ripas | F24: Caibros | I24: Terças
B25: Base | C25: 5 | F25: 4 | I25: 6
B27: Altura | C27: 1.5 | F27: 6 | I27: 16
B29: Espaçamento | C29: 0.38 | F29: 0.7 | I29: =AXA!$C$16 -> 1.5406654
B31: Treliças - Dimensões e Contenções
B32: Base | C32: 8 | F32: Contenções no banzo
B34: Altura | C34: 10 | F34: Inferior | I34: Superior
B36: Espaçamento | C36: 2.5 | F36: 1 | I36: 1
B38: Madeira
B39: Floresta | F39: Plantada - folhosa
B41: Tipo de madeira | F41: D60
B43: Umidade padrão | I43: 12
B45: Propriedades da Madeira
B46: ρap (12%) | C46: =VLOOKUP($F$41,AXB!$C$5:$K$29,3,0) -> 840 | F46: fc0 | I46: =VLOOKUP($F$41,AXB!$C$5:$K$61,4,0) -> 32
B47: Ec0 | C47: =VLOOKUP($F$41,AXB!$C$5:$K$61,8,0) -> 17000 | F47: ft0 | I47: =VLOOKUP($F$41,AXB!$C$5:$K$61,5,0) -> 36
B48: fv | C48: =VLOOKUP($F$41,AXB!$C$5:$K$61,7,0) -> 4.5 | F48: ft90 | I48: =VLOOKUP($F$41,AXB!$C$5:$K$61,6,0) -> 0,6
B50: Outras Cargas Permanentes
B51: Painéis solares | F51: Forro
B52: Possui | C52: Não | F52: Tipo | G52: Não Possui
B54: Carga | C54: =VLOOKUP(C52,AXB!AC4:AD5,2,0) -> 0 | F54: Carga | G54: =VLOOKUP(G52,AXB!V4:W9,2,0) -> 0
B56: % Coberta | C56: =VLOOKUP(C52,AXB!AC4:AE5,3,0) -> 0
B58: Cargas Variáveis
B59: Ação do Vento | G59: 0
B61: Sobrecarga | G61: 0.25
B63: Ambiente
B64: Classe de umidade | G64: (1)
...

Sheet RST
C4: Resistência da Madeira
C6: Kmod | G6: Valores Característicos - Fk | L6: Valores de Projeto - Fd
C7: kmod1 | D7: kmod2 | E7: Φ | G7: fck | H7: ftk | I7: fvk | J7: E0,05 | L7: Para umidade de | N7: =DSB!I43 -> 12
C8: classe de carregamento | D8: classe de umidade | E8: Coef. de fluência | G8: =IF($D$14="Classes",DSB!I46,0.7*DSB!I46) -> 32 | H8: =IF($D$14="Classes",DSB!I47,0.7*DSB!I47) -> 36 | I8: =IF($D$14="Classes",DSB!C48,0.54*DSB!C48) -> 4.5 | J8: =0.7*DSB!C47 -> 11900 | L8: fc0d | M8: =(G8*$D$11/1.4)/(1+((3*($N$7-12))/(100))) -> 16 | N8: =M8/10 -> 1.6
C9: Longa duração | D9: =DSB!G64 -> (1) | L9: ft0d | M9: =IF($D$14="Classes","-",(H8*$D$11/1.8)/(1+((3*($N$7-12))/(100)))) -> - | N9: =IF($D$14="Classes","-",M9/10) -> -
C10: =VLOOKUP(C9,AXB!C70:D74,2,0) -> 0.7 | D10: =VLOOKUP(D9,AXB!C77:D80,2,0) -> 1 | E10: =VLOOKUP(D9,AXB!C77:E80,3,0) -> 0.6 | L10: fvd | M10: =D11*I8/1.8 -> 1.75 | N10: =M10/10 -> 0.175
C11: Kmod | D11: =C10*D10 -> 0.7 | L11: Ec0,ef | M11: =(DSB!C47*$D$11)/(1+((2*($N$7-12))/(100))) -> 11900 | N11: =M11/10 -> 1190
L12: E0,med | M12: =(DSB!C47)/(1+((2*($N$7-12))/(100))) -> 17000 | N12: =M12/10 -> 1700
C14: Madeira> | D14: Classes | E14: =DSB!F41 -> D60 | F14: =VLOOKUP(E14,AXB!C5:D61,2,0) -> Plantada

Sheet CRG
C4: Carregamentos Atuantes
C6: grav. | D6: 9.806 | F6: senα | G6: =SIN(RADIANS(DSB!AV203)) -> 0.28883623 | I6: cosα | J6: =COS(RADIANS(DSB!AV203)) -> 0.95737852
C8: Carregamentos Permanentes | M8: Carregamentos Variáveis
C10: Ripas | F10: Caibros | I10: Terças | M10: Q - Plano horizontal
C11: Gripa,isolada | D11: =(DSB!C46*D6*DSB!C25*DSB!C27)/((DSB!C29)*10000000) -> 0.016257316 | F11: Gcaibro,isolado | G11: =(DSB!C46*D6*DSB!F25*DSB!F27)/(DSB!F29*10000000) -> 0.02824128 | I11: Gterça,isolada | J11: =(DSB!C46*D6*DSB!I25*DSB!I27)/(DSB!I29*10000000) -> 0.051325604 | M11: Q | N11: =DSB!G61 -> 0.25
C12: Gripa | D12: =($D$11+$D$17+D20) -> 0.50577284 | F12: Gcaibro | G12: =(D17+D11+G11+D20) -> 0.53401412 | I12: Gterça | J12: =((G12+J11)) -> 0.58533972 | M12: Qx | N12: =($N$11)*SIN(RADIANS(DSB!$AV$203)) -> 0.072209058
C13: Gripa,x | D13: =(D12)*SIN(RADIANS(DSB!$AV$203)) -> 0.14608552 | F13: Gcaibro,x | G13: =(G12)*SIN(RADIANS(DSB!$AV$203)) -> 0.15424262 | I13: Gterça,x | J13: =(J12)*SIN(RADIANS(DSB!$AV$203)) -> 0.16906732 | M13: Qy | N13: =($N$11)*COS(RADIANS(DSB!$AV$203)) -> 0.23934463
C14: Gripa,y | D14: =(D12)*COS(RADIANS(DSB!$AV$203)) -> 0.48421605 | F14: Gcaibro,y | G14: =(G12)*COS(RADIANS(DSB!$AV$203)) -> 0.51125364 | I14: Gterça,y | J14: =(J12)*COS(RADIANS(DSB!$AV$203)) -> 0.56039167
M15: A - Plano da cobertura
C16: Telhas | F16: Forro | I16: Tesoura e Contraventamentos | M16: =M11 -> Q | N16: =N11*COS(RADIANS(DSB!$AV$203)) -> 0.23934463
C17: Gtelha | D17: =(DSB!F20*DSB!F21*D6*(1+DSB!I15))/1000 -> 0.48951552 | F17: Gforro | G17: =DSB!G54 -> 0 | I17: Gtreliça | J17: =0.0245*(1+0.33*AXA!C10) -> 0.0722015 | M17: =M12 -> Qx | N17: =N16*SIN(RADIANS(DSB!$AV$203)) -> 0.069131401
M18: =M13 -> Qy | N18: =N16*COS(RADIANS(DSB!$AV$203)) -> 0.22914341
C19: Painéis solares fotovoltaicos
C20: Gpainel | D20: =DSB!C54 -> 0 | M20: V - Plano da cobertura
M21: V | N21: =DSB!G59 -> 0
M22: Vx | N22: =N21*G6 -> 0
M23: Vy | N23: =N21*J6 -> 0

Sheet CMB
C4: Combinações de Ações
C6: Coeficientes
C7: Ação | D7: γ | E7: ψ0 | F7: ψ1 | G7: ψ2
C8: Permanente | D8: 1.4 | E8: - | F8: - | G8: -
C9: Sobrecarga | D9: 1.5 | E9: 0.5 | F9: 0.4 | G9: 0.3
C10: Vento | D10: 1.4 | E10: 0.6 | F10: 0.3 | G10: 0
C13: RIPAS
C15: ELU | I15: RIPAS | J15: Ao longo de eixo x | L15: Ao longo de eixo y
C16: Eixo x | E16: Eixo y | J16: PADRÃO | K16: 1KN | L16: PADRÃO | M16: 1KN
C17: Comb 1 | E17: Comb 1 | I17: CORTANTE | J17: =AXB!J76 -> 0.040992838 | K17: - | L17: =AXB!N76 -> 0.13587514 | M17: -
C18: Fd | D18: =CRG!D13*D8+CRG!N17*D9 -> 0.30821683 | E18: Fd | F18: =CRG!D14*D8+CRG!N18*D9+CRG!N21*D10*E10 -> 1.0216176 | I18: MOMENTO | J18: =AXB!H81 -> 0.0071737467 | K18: - | L18: =AXB!L81 -> 0.023778149 | M18: -
C19: qx | D19: =D18*J25 -> 0.1171224 | E19: qy | F19: =F18*J25 -> 0.38821468 | I19: CORTANTE | J19: =J17 -> 0.040992838 | L19: =L17 -> 0.13587514
E20: Comb 2 | I20: MOMENTO | J20: =J18 -> 0.0071737467 | L20: =L18 -> 0.023778149
E21: Fd | F21: =CRG!D14*D8+CRG!N21*D10*0.75+CRG!N18*D9*E9 -> 0.84976002
E22: qy | F22: =F21*J25 -> 0.32290881
C24: Resultado | I24: espaçamento da ripa
C25: qx | D25: =D19 -> 0.1171224 | E25: qy | F25: =IF(F19>=F22,F19,F22) -> 0.38821468 | I25: esp | J25: =DSB!C29 -> 0.38
B27: eixo x - (Vx e My) | E27: eixo y - (Vy e Mx)
C46: ELS - Flecha instantânea | K46: ELS - Flecha final
C47: Eixo x | E47: Eixo y | K47: Eixo x | M47: Eixo y
C48: Comb 1 | E48: Comb 1 - Q principal | G48: Comb 2 - V principal | K48: Comb 1 | M48: Comb 1
C49: Fd | D49: =CRG!D13+CRG!N17 -> 0.21521692 | E49: Fd | F49: =CRG!D14+CRG!N18+F10*CRG!N21 -> 0.71335946 | G49: =CRG!D14+CRG!N21+CRG!N13*CMB!F9 -> 0.5799539 | K49: Fd | L49: =(CRG!D13+CRG!N17*G9)*(1+RST!E10) -> 0.2669199 | M49: Fd | N49: =(CRG!D14+CRG!N18*G9)*(1+RST!E10) -> 0.88473451
C50: Resultado | K50: Resultado
C51: qx | D51: =D49*J25 -> 0.08178243 | E51: qy | F51: =(IF(F49>=G49,F49,G49))*J25 -> 0.27107659 | K51: qx | L51: =L49*J25 -> 0.10142956 | M51: qy | N51: =N49*J25 -> 0.33619912
C55: CAIBROS
C57: ELU
C58: Eixo x | E58: Eixo y | I58: Carga concentrada de 1kN | N58: CAIBROS | O58: ao longo de eixo x | Q58: ao longo de eixo y
C59: Comb 1 | E59: Comb 1 | I59: Eixo x | K59: Eixo y | O59: PADRÃO | P59: 1KN | Q59: PADRÃO | R59: 1KN
C60: Fd | D60: =CRG!G13*D8+CRG!N17*D9 -> 0.31963678 | E60: Fd | F60: =CRG!G14*D8+CRG!N18*D9+CRG!N21*D10*E10 -> 1.0594702 | H60: 1kN sem CofSeg | I60: Pz | J60: =1*SIN(RADIANS(DSB!$AV$203)) -> 0.28883623 | K60: Py | L60: =1*COS(RADIANS(DSB!$AV$203)) -> 0.95737852 | N60: CORTANTE | O60: - | P60: - | Q60: =AXB!T73 -> 0.5713012 | R60: =AXB!W92 -> 0.86464796
C61: qx | D61: =D60*J67 -> 0.22374574 | E61: qy | F61: =F60*J67 -> 0.74162915 | I61: Carga Distriuída Permanente | N61: MOMENTO | O61: - | P61: - | Q61: =AXB!V81 -> 0.220046 | R61: =AXB!V97 -> 0.51740831
E62: Comb 2 | I62: Eixo x | K62: Eixo y | N62: NORMAL | O62: =AXB!R72 -> 0.34471733 | P62: =AXB!R88 -> 0.52171979 | Q62: - | R62: -
E63: Fd | F63: =CRG!G14*D8+CRG!N21*D10*0.75+CRG!N18*D9*E9 -> 0.88761266 | I63: qx | J63: =CRG!G13*$D$8*J67 -> 0.15115777 | K63: qy | L63: =CRG!G14*$D$8*J67 -> 0.50102857 | N63: CORTANTE | O63: - | Q63: =LARGE(Q60:R60,1) -> 0.86464796
E64: qy | F64: =F63*J67 -> 0.62132886 | N64: MOMENTO | O64: - | Q64: =LARGE(Q61:R61,1) -> 0.51740831
N65: NORMAL | O65: =LARGE(O62:P62,1) -> 0.52171979 | Q65: -
C66: Resultado | I66: espaçamento do caibro
C67: qx | D67: =D61 -> 0.22374574 | E67: qy | F67: =IF(F61>=F64,F61,F64) -> 0.74162915 | I67: esp | J67: =DSB!F29 -> 0.7
B69: Eixo x - (Nx) | E69: Eixo y - (Vy e Mz) | H69: Eixo x - (Nx) | K69: Eixo y - (Vy e Mz)
C88: ELS - Flecha instantânea | K88: ELS - Flecha final
C89: Eixo x | E89: Eixo y | K89: Eixo x | M89: Eixo y
C90: Comb 1 | E90: Comb 1 - Q principal | G90: Comb - V principal | K90: Comb 1 | M90: Comb 1
...

Sheet VRF
D4: Verificações
D6: RIPAS | L6: CAIBROS | T6: TERÇAS | AB6: TRELIÇAS
D8: Propriedades geométricas | L8: Dados comuns | T8: Dados comuns
D9: hy | E9: =DSB!C27 -> 1.5 | G9: Ix | H9: =(E10*E9^3)/12 -> 1.40625 | L9: hy | M9: =DSB!F27 -> 6 | O9: Iz | P9: =(M10*M9^3)/12 -> 72 | T9: hy | U9: =DSB!I27 -> 16 | W9: Ix | X9: =(U10*U9^3)/12 -> 2048
D10: bx | E10: =DSB!C25 -> 5 | G10: Iy | H10: =(E9*E10^3)/12 -> 15.625 | L10: bz | M10: =DSB!F25 -> 4 | O10: Iy | P10: =(M9*M10^3)/12 -> 32 | T10: bx | U10: =DSB!I25 -> 6 | W10: Iy | X10: =(U9*U10^3)/12 -> 288
L11: L | M11: =DSB!I29*100 -> 154.06654 | O11: iz | P11: =M9/SQRT(12) -> 1.7320508
L12: A | M12: =M9*M10 -> 24 | O12: iy | P12: =M10/SQRT(12) -> 1.1547005 | T12: Terça Inclinada
L13: Vd,y | M13: =CMB!Q63 -> 0.86464796 | O13: qd,yserv, inst | P13: =CMB!F93 -> 0.51827794
D14: Em torno do Eixo X | G14: Em torno do Eixo Y | L14: Md,z | M14: =CMB!Q64*100 -> 51.740831 | O14: qd,yserv, fin | P14: =CMB!N93 -> 0.64959627 | T14: Em torno do Eixo x | W14: Em torno do Eixo Y
D15: Esforços Solicitantes | G15: Esforços Solicitantes | L15: Nd,x | M15: =CMB!O65 -> 0.52171979 | O15: φ | P15: =VLOOKUP(RST!$D$9,AXB!$C$77:$E$80,3) -> 0.6 | T15: Esforço Solicitante | W15: Esforço Solicitante | AB15: Dados comuns
D16: Mdx | E16: =CMB!L20*100 -> 2.3778149 | G16: Mdy | H16: =CMB!J20*100 -> 0.71737467 | T16: Mdx | U16: =CMB!M138*100 -> 154.26792 | W16: Mdy | X16: =CMB!K138*100 -> 46.541846 | AB16: hy | AC16: =DSB!C34 -> 10 | AE16: Ix | AF16: =(AC17*AC16^3)/12 -> 666.66667
D17: Vdy | E17: =CMB!J19 -> 0.040992838 | G17: Vdx | H17: =CMB!L19 -> 0.13587514 | T17: Vdy | U17: =CMB!K137 -> 0.65553648 | W17: Vdx | X17: =CMB!M137 -> 2.1728456 | AB17: bx | AC17: =DSB!C32 -> 8 | AE17: Iy | AF17: =(AC16*AC17^3)/12 -> 426.66667
D18: L | E18: =DSB!F29*100 -> 70 | G18: L | H18: =E18 -> 70 | L18: Flexão reta | O18: Cisalhamento Y | T18: L | U18: =DSB!C36*100 -> 250 | W18: L | X18: =U18 -> 250
D19: qy,ELS,inst | E19: =CMB!F51 -> 0.27107659 | G19: qx,ELS, inst | H19: =CMB!D51 -> 0.08178243 | L19: fcd | M19: =RST!$N$8 -> 1.6 | O19: fvd | P19: =RST!$N$10 -> 0.175 | T19: qy,ELS,inst | U19: =CMB!F138 -> 1.2164094 | W19: qx,ELS, inst | X19: =CMB!D138 -> 0.36698454 | AB19: Barras Tracionadas - An=0,75Ag
D20: qy,ELS,fin | E20: =CMB!N51 -> 0.33619912 | G20: qx,ELS, fin | H20: =CMB!L51 -> 0.10142956 | L20: σsdzc | M20: =(M14*M9/2)/P9 -> 2.155868 | O20: τyd | P20: =1.5*M13/M12 -> 0.054040498 | T20: qy | U20: =CMB!F112 -> 1.7382765 | W20: qx | X20: =CMB!D112 -> 0.52442919
D21: Flexão Reta | G21: Flexão Reta | L21: =IF(M20<=M19,"ATENDE","NÃO ATENDE") -> NÃO ATENDE | O21: =IF(P20<=P19,"ATENDE","NÃO ATENDE") -> ATENDE | T21: Flexão Reta | W21: Flexão Reta | AB21: =CONCATENATE("BANZO INFERIOR - Barra ",CMB!$J$188) -> BANZO INFERIOR - Barra 1 | AE21: MONTANTE - Barra 5
D22: fcd | E22: =RST!$N$8 -> 1.6 | G22: fcd | H22: =E22 -> 1.6 | O22: Deslocamento Y - crítico | T22: fcd | U22: =RST!$N$8 -> 1.6 | W22: fcd | X22: =U22 -> 1.6 | AB22: fcd | AC22: =RST!$N$8 -> 1.6 | AE22: fcd | AF22: =RST!$N$8 -> 1.6
D23: σsdxc | E23: =(E16*E9/2)/H9 -> 1.268168 | G23: σsdyc | H23: =(H16*E10/2)/H10 -> 0.11477995 | O23: δlimite | P23: =AXC!I20 -> 0.51355515 | T23: σsdxc | U23: =(U16*U9/2)/X9 -> 0.60260905 | W23: σsdxc | X23: =(X16*U10/2)/X10 -> 0.4848109 | AB23: σsd | AC23: =CMB!$K$188/(AC16*AC17*0.75) -> 0.39587749 | AE23: σsd | AF23: =CMB!$K$191/(AC16*AC17*0.75) -> 0.079622817
D24: =IF(E23<=E22,"ATENDE","NÃO ATENDE") -> ATENDE | G24: =IF(H23<=H22,"ATENDE","NÃO ATENDE") -> ATENDE | L24: Compressão | O24: δy | P24: =AXC!I19 -> 0.81041633 | T24: =IF(U23<=U22,"ATENDE","NÃO ATENDE") -> ATENDE | W24: =IF(X23<=X22,"ATENDE","NÃO ATENDE") -> ATENDE | AB24: =IF(AC23<=AC22,"ATENDE","NÃO ATENDE") -> ATENDE | AE24: =IF(AF23<=AF22,"ATENDE","NÃO ATENDE") -> ATENDE
D25: Cisalhamento | G25: Cisalhamento | L25: λ | M25: =M11/P12 -> 133.42554 | O25: =IF(P24<=P23,"ATENDE","NÃO ATENDE") -> NÃO ATENDE | T25: Cisalhamento | W25: Cisalhamento | AB25: Esbeltez no Plano | AE25: Esbeltez no Plano
D26: fvd | E26: =RST!$N$10 -> 0.175 | G26: fvd | H26: =E26 -> 0.175 | L26: λrel | M26: =M25/PI()*SQRT(RST!$G$8/RST!$J$8) -> 2.2023717 | O26: Compressão Normal | T26: fvd | U26: =RST!$N$10 -> 0.175 | W26: fvd | X26: =U26 -> 0.175 | AB26: L | AC26: =CMB!$L$188 -> 2.95 | AE26: L | AF26: =CMB!L191 -> 0.89
D27: τxd | E27: =1.5*E17/(E9*E10) -> 0.0081985677 | G27: τyd | H27: =1.5*H17/(E9*E10) -> 0.027175028 | L27: K | M27: =0.5*(1+0.2*(M26-0.3)+M26^2) -> 3.1154576 | O27: fcnd,y | P27: =0.25*RST!$N$8 -> 0.4 | T27: τyd | U27: =1.5*U17/(U9*U10) -> 0.010242758 | W27: τxd | X27: =1.5*X17/(U9*U10) -> 0.033950713 | AB27: ix | AC27: =(AC16/100)/(SQRT(12)) -> 0.028867513 | AE27: iy | AF27: =AC33 -> 0.023094011
D28: =IF(E27<=E26,"ATENDE","NÃO ATENDE") -> ATENDE | G28: =IF(H27<=H26,"ATENDE","NÃO ATENDE") -> ATENDE | L28: Kc | M28: =IF(M26<=0.3,1,1/(M27+SQRT(M27^2-M26^2))) -> 0.18800497 | O28: Rd | P28: =M13 -> 0.86464796 | T28: =IF(U27<=U26,"ATENDE","NÃO ATENDE") -> ATENDE | W28: =IF(X27<=X26,"ATENDE","NÃO ATENDE") -> ATENDE | AB28: λy | AC28: =AC26/VRF!AC27 -> 102.191 | AE28: λy | AF28: =AF26/VRF!AF27 -> 38.53813
L29: fcd | M29: =RST!$N$8 -> 1.6 | O29: b = bcaibro | P29: =DSB!F25 -> 4 | AB29: =AXC!AF34 -> ATENDE | AE29: =AXC!AF37 -> ATENDE
B30: Deslocamento | G30: Deslocamento | L30: σsdx | M30: =M15/(M28*M12) -> 0.11562633 | O30: c = bterça/2 | P30: =DSB!I25/2 -> 3 | S30: Deslocamento | W30: Deslocamento | AB30: BANZO INFERIOR COMPLETO
C31: Final | D31: Instantâneo | H31: Instantâneo | I31: Final | L31: =IF(M30<=M29,"ATENDE","NÃO ATENDE") -> ATENDE | O31: σcnd,y | P31: =P28/(VRF!P29*VRF!P30) -> 0.072053997 | T31: Final | U31: Instantâneo | X31: Final | Y31: Instantâneo | AB31: Esbeltez Fora do Plano
B32: δlimite | C32: =E18/150 -> 0.46666667 | E32: =(E18)/300 -> 0.23333333 | G32: δlimite | H32: =E32 -> 0.23333333 | I32: =C32 -> 0.46666667 | O32: =IF(P31<=P27,"ATENDE","NÃO ATENDE") -> ATENDE | S32: δlimite | T32: =U18/150 -> 1.6666667 | U32: =(U18)/300 -> 0.83333333 | W32: δlimite | X32: =X18/150 -> 1.6666667 | Y32: =U32 -> 0.83333333 | AB32: L | AC32: =AXA!C10 -> 5.9
B33: δy | C33: =(5/384)*((VRF!E20/100)*(VRF!E18^4))/(RST!$N$12*VRF!H9) -> 0.43965908 | E33: =(5/384)*((VRF!E19/100)*(VRF!E18^4))/(RST!$N$12*VRF!H9) -> 0.35449613 | G33: δx | H33: =(5/384)*((VRF!H19/100)*(VRF!H18^4))/(RST!$N$12*VRF!H10) -> 0.0096254713 | I33: =(5/384)*((VRF!H20/100)*(VRF!H18^4))/(RST!$N$12*VRF!H10) -> 0.011937862 | O33: Estabilidade Lateral | S33: δx | T33: =AXC!V15 -> 0.52513626 | U33: =AXC!V9 -> 0.46263735 | W33: δy | X33: =AXC!W15 -> 0.24477472 | Y33: =AXC!W9 -> 0.21564293 | AB33: iy | AC33: =(AC17/100)/(SQRT(12)) -> 0.023094011
B34: Verificação | C34: =IF(C33<=C32,"ATENDE","NÃO ATENDE") -> ATENDE | D34: =IF(E33<=E32,"ATENDE","NÃO ATENDE") -> NÃO ATENDE | G34: Verificação | H34: =IF(H33<=H32,"ATENDE","NÃO ATENDE") -> ATENDE | I34: =IF(I33<=I32,"ATENDE","NÃO ATENDE") -> ATENDE | O34: h/b | P34: =M9/M10 -> 1.5 | S34: =IF(AND(U33<=U32,T33<=T32),"ATENDE","NÃO ATENDE") -> ATENDE | W34: =IF(AND(Y33<=Y32,X33<=X32),"ATENDE","NÃO ATENDE") -> ATENDE | AB34: λy,inicial | AC34: =AC32/VRF!AC33 -> 255.47749
O35: βM | P35: =IF(P34<1,"-",(4/1.4)*(1/(0.25*PI()))*((P34^(3/2))/(SQRT(P34-0.63)))) -> 7.1650518 | AB35: λy,final | AC35: =AXC!Z29 -> 127.73875
L36: Flexocompressão | O36: l/b | P36: =M11/M10 -> 38.516636 | T36: Flexão Composta Oblíqua | AB36: =AXC!AF30 -> ATENDE
D37: Flexão Composta Oblíqua | L37: Valor | M37: =(M30/M29)^2+M20/M19 -> 1.3526399 | O37: σlim | P37: =IF(P34<1,"-",(RST!N11)/(VRF!P35*VRF!P36)) -> 4.3120052 | AB37: =AXC!Z30 -> 1 contenção(ões) ao longo do banzo inferior, além de 2 nas extremidades
E38: =E23 -> 1.268168 | F38: =H23 -> 0.11477995 | G38: =(E23/E22)+0.7*(H23/H22) -> 0.8428212 | H38: =IF(G38<=1,"ATENDE ≤ 1","NÃO ATENDE > 1") -> ATENDE ≤ 1 | L38: =IF(M37<=1,"ATENDE ≤ 1","NÃO ATENDE > 1") -> NÃO ATENDE > 1 | O38: σcd | P38: =(M14*M9/2)/P9+AXC!C11 -> 2.1776063 | U38: =U23 -> 0.60260905 | V38: =X23 -> 0.4848109 | W38: =(U23/U22)+0.7*(X23/X22) -> 0.58873542 | X38: =IF(W38<=1,"ATENDE ≤1","NÃO ATENDE > 1") -> ATENDE ≤1
E39: =E22 -> 1.6 | F39: =H22 -> 1.6 | O39: =IF(P34<1,"ATENDE-Verificação desnecessária",(IF(P38<=P37,"ATENDE","NÃO ATENDE"))) -> ATENDE | U39: =U22 -> 1.6 | V39: =X22 -> 1.6
E42: =E23 -> 1.268168 | F42: =H23 -> 0.11477995 | G42: =0.7*(E23/E22)+(H23/H22) -> 0.62656095 | H42: =IF(G42<=1,"ATENDE ≤1","NÃO ATENDE > 1") -> ATENDE ≤1 | U42: =U23 -> 0.60260905 | V42: =X23 -> 0.4848109 | W42: =0.7*(U23/U22)+(X23/X22) -> 0.56664827 | X42: =IF(W42<=1,"ATENDE ≤1","NÃO ATENDE > 1") -> ATENDE ≤1
E43: =E22 -> 1.6 | F43: =H22 -> 1.6 | U43: =U22 -> 1.6 | V43: =X22 -> 1.6
D45: Cisalhamento | G45: Deslocamento | T45: Cisalhamento | W45: Deslocamento X | Y45: Deslocamento Y | AB45: Barras Comprimidas
D46: fvd | E46: =RST!$N$10 -> 0.175 | G46: Deslocamento instantâneo | T46: fvd | U46: =RST!$N$10 -> 0.175 | W46: δlimite | X46: =AXC!V19 -> 0.83333333 | Y46: δlimite | Z46: =AXC!W19 -> 0.83333333
D47: τd | E47: =MAX(E27,H27) -> 0.027175028 | G47: δlimite | H47: =E32 -> 0.23333333 | T47: τd | U47: =MAX(U27,X27) -> 0.033950713 | W47: δ | X47: =AXC!V18 -> 0.46263735 | Y47: δ | Z47: =AXC!W18 -> 0.21564293 | AB47: BANZO SUPERIOR - Barra 3 | AE47: DIAGONAL - Barra 4
D48: =IF(E47<=E46,"ATENDE","NÃO ATENDE") -> ATENDE | G48: δ | H48: =MAX(E33,H33) -> 0.35449613 | T48: =IF(U47<=U46,"ATENDE","NÃO ATENDE") -> ATENDE | W48: =IF(X47<=X46,"ATENDE","NÃO ATENDE") -> ATENDE | Y48: =IF(Z47<=Z46,"ATENDE","NÃO ATENDE") -> ATENDE | AB48: Nd | AC48: =CMB!$K$183 -> 24.810092 | AE48: Nd | AF48: =CMB!$K$186 -> 8.2700308
...

Sheet LGC
B4: Ligações
B9: Nó A | H9: Nó F
B11: Entalhe | H11: Entalhe
B12: Nd | C12: =CMB!E183 -> 24.810092 | D12: kN | H12: Nd | I12: =CMB!E184 -> 16.540062 | J12: kN
B13: β | C13: =AXA!$C$23 -> 16.788296 | D13: ° | H13: β | I13: =90-AXA!$C$23 -> 73.211704 | J13: °
B14: β | C14: =RADIANS(C13) -> 0.29301104 | D14: rad | H14: β | I14: =RADIANS(I13) -> 1.2777853 | J14: rad
B15: b | C15: =DSB!$C$32 -> 8 | D15: cm | H15: b | I15: =DSB!$C$32 -> 8 | J15: cm
B16: f0 | C16: =RST!$N$8 -> 1.6 | D16: kN/cm² | H16: f0 | I16: =RST!$N$8 -> 1.6 | J16: kN/cm²
B17: f90 | C17: =0.25*C16 -> 0.4 | D17: kN/cm² | H17: f90 | I17: =0.25*I16 -> 0.4 | J17: kN/cm²
B18: fcβd | C18: =C16*C17/(C16*SIN(C14)^2+C17*COS(C14)^2) -> 1.2797143 | D18: kN/cm² | H18: fcβd | I18: =I16*I17/(I16*SIN(I14)^2+I17*COS(I14)^2) -> 0.42669843 | J18: kN/cm²
B19: Dente | H19: Dente
B20: t | C20: =C12*COS(C14)/(C15*C18) -> 2.3201126 | D20: cm | H20: t | I20: =I12*COS(I14)/(I15*I18) -> 1.3995157 | J20: cm
B21: t aprox | C21: =_xlfn.CEILING.MATH(C20,0.5) -> 2.5 | D21: cm | H21: t aprox | I21: =_xlfn.CEILING.MATH(I20,0.5) -> 1.5 | J21: cm
B22: t max | C22: =DSB!$C$34/4 -> 2.5 | D22: cm | H22: t max | I22: =DSB!$C$34/8 -> 1.25 | J22: cm
B23: t min | C23: =DSB!$C$34/8 -> 1.25 | D23: cm | H23: t min | I23: =DSB!$C$34/16 -> 0.625 | J23: cm
B24: t adot | C24: =IF(C22<C21,C22,IF(C21<C23,C23,C21)) -> 2.5 | D24: cm | H24: t adot | I24: =IF(I22<I21,I22,IF(I21<I23,I23,I21)) -> 1.25 | J24: cm
B25: Verificação | C25: =IF(C21>C22,"Não Atende","Atende") -> Atende | H25: Verificação | I25: =IF(I21>I22,"Não Atende","Atende") -> Não Atende
B26: Folga | H26: Folga
B27: fvd | C27: =RST!$N$10 -> 0.175 | D27: kN/cm² | H27: fvd | I27: =RST!$N$10 -> 0.175 | J27: kN/cm²
B28: a | C28: =C12*COS(C14)/(C15*C27) -> 16.966178 | D28: cm | H28: a | I28: =I12*COS(I14)/(I15*I27) -> 3.4124065 | J28: cm
B29: a aprox | C29: =_xlfn.CEILING.MATH(C28,0.5) -> 17 | D29: cm | H29: a aprox | I29: =_xlfn.CEILING.MATH(I28,0.5) -> 3.5 | J29: cm
B30: a min | C30: 15 | D30: cm | H30: a min | I30: 15 | J30: cm
B31: a adot | C31: =IF(C29>C30,C29,C30) -> 17 | D31: cm | H31: a adot | I31: =IF(I29>I30,I29,I30) -> 15 | J31: cm
B33: Nó D | H33: Nó B
B35: Entalhe | H35: Entalhe
B36: Nd | C36: =CMB!E186 -> 8.2700308 | D36: kN | H36: Nd | I36: =CMB!E186 -> 8.2700308 | J36: kN
B37: β | C37: =2*AXA!$C$23 -> 33.576591 | D37: ° | H37: β | I37: =90-AXA!$C$23 -> 73.211704 | J37: °
B38: β | C38: =RADIANS(C37) -> 0.58602207 | D38: rad | H38: β | I38: =RADIANS(I37) -> 1.2777853 | J38: rad
B39: b | C39: =DSB!$C$32 -> 8 | D39: cm | H39: b | I39: =DSB!$C$32 -> 8 | J39: cm
B40: f0 | C40: =RST!$N$8 -> 1.6 | D40: kN/cm² | H40: f0 | I40: =RST!$N$8 -> 1.6 | J40: kN/cm²
B41: f90 | C41: =0.25*C40 -> 0.4 | D41: kN/cm² | H41: f90 | I41: =0.25*I40 -> 0.4 | J41: kN/cm²
B42: fcβd | C42: =C40*C41/(C40*SIN(C38)^2+C41*COS(C38)^2) -> 0.83437765 | D42: kN/cm² | H42: fcβd | I42: =I40*I41/(I40*SIN(I38)^2+I41*COS(I38)^2) -> 0.42669843 | J42: kN/cm²
B43: Dente | H43: Dente
B44: t | C44: =C36*COS(C38)/(C39*C42) -> 1.0322295 | D44: cm | H44: t | I44: =I36*COS(I38)/(I39*I42) -> 0.69975783 | J44: cm
B45: t aprox | C45: =_xlfn.CEILING.MATH(C44,0.5) -> 1.5 | D45: cm | H45: t aprox | I45: =_xlfn.CEILING.MATH(I44,0.5) -> 1 | J45: cm
B46: t max | C46: =DSB!$C$34/4 -> 2.5 | D46: cm | H46: t max | I46: =DSB!$C$34/8 -> 1.25 | J46: cm
B47: t min | C47: =DSB!$C$34/8 -> 1.25 | D47: cm | H47: t min | I47: =DSB!$C$34/16 -> 0.625 | J47: cm
B48: t adot | C48: =IF(C46<C45,C46,IF(C45<C47,C47,C45)) -> 1.5 | D48: cm | H48: t adot | I48: =IF(I46<I45,I46,IF(I45<I47,I47,I45)) -> 1 | J48: cm
B49: Verificação | C49: =IF(C45>C46,"Não Atende","Atende") -> Atende | H49: Verificação | I49: =IF(I45>I46,"Não Atende","Atende") -> Atende

Sheet AXA
B2: CÁLCULOS DAS DIMENSÕES MACRO DO TELHADO
B5: DIMENSÕES | O5: RIPAS | R5: CAIBROS | U5: TERÇAS
B6: r | C6: =DSB!C29 -> 0.38 | O6: Seções | P6: b (cm) | Q6: h (cm) | R6: Seções | S6: b (cm) | T6: h (cm) | U6: Seções | V6: b (cm) | W6: h (cm)
B7: t | C7: =DSB!F29 -> 0.7 | O7: 5X1,5 | P7: 5 | Q7: 1.5 | R7: 5x6 | S7: 5 | T7: 6 | U7: 6x13 | V7: 6 | W7: 13
B8: a | C8: =DSB!C36 -> 2.5 | O8: 5x2 | P8: 5 | Q8: 2 | R8: 5x7 | S8: 5 | T8: 7 | U8: 6X16 | V8: 6 | W8: 16
B9: s | C9: =DSB!I6/COS(RADIANS(AXA!C23)) -> 0.73116326 | O9: 5x2,5 | P9: 5 | Q9: 2.5 | R9: 5x8 | S9: 5 | T9: 8 | U9: 6X18 | V9: 6 | W9: 18
B10: l | C10: =DSB!C6-DSB!I8 -> 5.9 | R10: 6X1 | S10: 6 | T10: 1 | U10: 6x20 | V10: 6 | W10: 20
B11: b | C11: =C10/2 -> 2.95 | U11: 7x14 | V11: 7 | W11: 14
B12: m | C12: =C11/2 -> 1.475 | U12: 7x18 | V12: 7 | W12: 18
B13: hi | C13: =(TAN(RADIANS(C22)))*AXA!C11 -> 0.885 | U13: 10x20 | V13: 10 | W13: 20
B14: h | C14: =ROUNDUP(C13,2) -> 0.89 | U14: 10x30 | V14: 10 | W14: 30
B15: c | C15: =SQRT(C11^2+C14^2) -> 3.0813309 | U15: 6x12 | V15: 6 | W15: 12
B16: e | C16: =C15/2 -> 1.5406654
B17: v1 | C17: 0
B18: v2 | C18: 0
B19: d1 | C19: =C16 -> 1.5406654
B20: d2 | C20: 0
B21: senα | C21: =C14/C15 -> 0.28883623
B22: αi | C22: =DEGREES(ATAN(DSB!I13)) -> 16.699244
B23: α | C23: =DEGREES(ASIN(C21)) -> 16.788296
B24: cosα | C24: =C11/C15 -> 0.95737852
B25: Ltotal | C25: =(C15+C11+C19)*2+C14 -> 16.033993

Sheet AXB
C2: TABELA DE MADEIRAS | M2: TABELA TELHAS | T2: T. UMIDADE | V2: TABELA FORROS | AA2: CONTENÇÕES | AC2: Painéis solares
B3: Plantada - conífera | C3: Nome comum | D3: TIPO | E3: rap (12%) | F3: fc0 | G3: ft0 | H3: ft90 | I3: fv | J3: Ec0 | M3: Telha | N3: Rendimento | O3: Peso | P3: Galga Recomendada | Q3: Inclinação Mínima | T3: 10 | V3: Tipo | W3: Carga | AA3: 0 | AC3: Possui | AD3: Carga | AE3: Superfície
E4: kg/m3 | F4: MPa | G4: MPa | H4: MPa | I4: MPa | J4: MPa | M4: Portuguesa | N4: 16 | O4: 2.4 | P4: 0.336 | Q4: 0.3 | T4: 11 | V4: PVC | W4: 0.1 | AA4: 1 | AC4: Sim | AD4: 0.15 | AE4: 1 | AK4: Plantada - conífera | AL4: Plantada - folhosa | AM4: Nativa | AP4: DASHBOARD
C5: C14 | D5: Plantada | E5: 350 | F5: 16 | G5: 8 | H5: 0.4 | I5: 3 | J5: 7000 | M5: Romana | N5: 16 | O5: 2.4 | P5: 0.34 | Q5: 0.3 | T5: 12 | V5: Gesso em placas | W5: 0.15 | AC5: Não | AD5: 0 | AE5: 0 | AK5: C14 | AL5: D18 | AM5: D 20 | AP5: =DSB!F39 -> Plantada - folhosa
C6: C16 | D6: Plantada | E6: 370 | F6: 17 | G6: 10 | H6: 0.4 | I6: 3.2 | J6: 8000 | M6: Canal Piauí | N6: 26 | O6: 1.38 | P6: 0.4 | Q6: 0.25 | T6: 13 | V6: Gesso acartonado | W6: 0.25 | AK6: C16 | AL6: D24 | AM6: D 30 | AO6: 2 | AP6: =HLOOKUP($AP$5,$AK$4:$AM$16,AO6,0) -> D18
C7: C18 | D7: Plantada | E7: 380 | F7: 18 | G7: 11 | H7: 0.4 | I7: 3.4 | J7: 9000 | M7: Americana | N7: 12.8 | O7: 3.2 | P7: 0.358 | Q7: 0.3 | T7: 14 | V7: Fibra mineral | W7: 0.1 | AK7: C18 | AL7: D30 | AM7: D 40 | AO7: 3 | AP7: =HLOOKUP($AP$5,$AK$4:$AM$16,AO7,0) -> D24
C8: C20 | D8: Plantada | E8: 390 | F8: 19 | G8: 12 | H8: 0.4 | I8: 3.6 | J8: 9500 | M8: Colonial Média | N8: 29 | O8: 1.3 | P8: 0.4 | Q8: 0.25 | T8: 15 | V8: Placas de alumínio | W8: 0.1 | AK8: C20 | AL8: D35 | AM8: D 50 | AO8: 4 | AP8: =HLOOKUP($AP$5,$AK$4:$AM$16,AO8,0) -> D30
C9: C22 | D9: Plantada | E9: 410 | F9: 20 | G9: 13 | H9: 0.4 | I9: 3.8 | J9: 10000 | M9: Colonial Grande | N9: 26 | O9: 1.7 | P9: 0.4 | Q9: 0.25 | T9: 16 | V9: Não Possui | W9: 0 | AK9: C22 | AL9: D40 | AM9: D 60 | AO9: 5 | AP9: =HLOOKUP($AP$5,$AK$4:$AM$16,AO9,0) -> D35
C10: C24 | D10: Plantada | E10: 420 | F10: 21 | G10: 14 | H10: 0.4 | I10: 4 | J10: 11000 | T10: 17 | AK10: C24 | AL10: D50 | AO10: 6 | AP10: =HLOOKUP($AP$5,$AK$4:$AM$16,AO10,0) -> D40
C11: C27 | D11: Plantada | E11: 450 | F11: 22 | G11: 16 | H11: 0.4 | I11: 4 | J11: 12000 | T11: 18 | AK11: C27 | AL11: D60 | AO11: 7 | AP11: =HLOOKUP($AP$5,$AK$4:$AM$16,AO11,0) -> D50
C12: C30 | D12: Plantada | E12: 460 | F12: 23 | G12: 18 | H12: 0.4 | I12: 4 | J12: 12000 | T12: 19 | AK12: C30 | AL12: D70 | AO12: 8 | AP12: =HLOOKUP($AP$5,$AK$4:$AM$16,AO12,0) -> D60
C13: C35 | D13: Plantada | E13: 480 | F13: 25 | G13: 21 | H13: 0.4 | I13: 4 | J13: 13000 | M13: CORES | O13: φ | T13: 20 | AK13: C35 | AO13: 9 | AP13: =HLOOKUP($AP$5,$AK$4:$AM$16,AO13,0) -> D70
C14: C40 | D14: Plantada | E14: 500 | F14: 26 | G14: 24 | H14: 0.4 | I14: 4 | J14: 14000 | M14: #00FA65 | O14: classe de umidade (1) e (2) | Q14: 0.8 | T14: 21 | AK14: C40 | AO14: 10 | AP14: =HLOOKUP($AP$5,$AK$4:$AM$16,AO14,0) -> 0
C15: C45 | D15: Plantada | E15: 520 | F15: 27 | G15: 27 | H15: 0.4 | I15: 4 | J15: 15000 | M15: #FF0D35 | O15: classe de umidade (3) e (3) | Q15: 2 | T15: 22 | AK15: C45 | AO15: 11 | AP15: =HLOOKUP($AP$5,$AK$4:$AM$16,AO15,0) -> 0
C16: C50 | D16: Plantada | E16: 550 | F16: 29 | G16: 30 | H16: 0.4 | I16: 4 | J16: 16000 | T16: 23 | AK16: C50 | AO16: 12 | AP16: =HLOOKUP($AP$5,$AK$4:$AM$16,AO16,0) -> 0
B17: Plantada - folhosa | C17: D18 | D17: Plantada | E17: 570 | F17: 18 | G17: 11 | H17: 0.6 | I17: 3.4 | J17: 9500 | T17: 24 | AO17: 13 | AP17: =HLOOKUP($AP$5,$AK$4:$AM$16,AO17,0) -> 0
C18: D24 | D18: Plantada | E18: 580 | F18: 21 | G18: 14 | H18: 0.6 | I18: 4 | J18: 10000 | T18: 25
C19: D30 | D19: Plantada | E19: 640 | F19: 23 | G19: 18 | H19: 0.6 | I19: 4 | J19: 11000
C20: D35 | D20: Plantada | E20: 650 | F20: 25 | G20: 21 | H20: 0.6 | I20: 4 | J20: 12000
C21: D40 | D21: Plantada | E21: 660 | F21: 26 | G21: 24 | H21: 0.6 | I21: 4 | J21: 13000
C22: D50 | D22: Plantada | E22: 750 | F22: 29 | G22: 30 | H22: 0.6 | I22: 4 | J22: 14000
C23: D60 | D23: Plantada | E23: 840 | F23: 32 | G23: 36 | H23: 0,6 | I23: 4.5 | J23: 17000
C24: D70 | D24: Plantada | E24: 1080 | F24: 34 | G24: 42 | H24: 0.6 | I24: 5 | J24: 20000
B25: Nativa | C25: D 20 | D25: Nativa | E25: 500 | F25: 20 | G25: - | H25: - | I25: 4 | J25: 10000
C26: D 30 | D26: Nativa | E26: 625 | F26: 30 | G26: - | H26: - | I26: 5 | J26: 12000
C27: D 40 | D27: Nativa | E27: 750 | F27: 40 | G27: - | H27: - | I27: 6 | J27: 14500
C28: D 50 | D28: Nativa | E28: 850 | F28: 50 | G28: - | H28: - | I28: 7 | J28: 16500
C29: D 60 | D29: Nativa | E29: 1000 | F29: 60 | G29: - | H29: - | I29: 8 | J29: 19500
C68: TABELAS KMOD | F68: DIAGRAMAS
C69: Kmod1 | F69: RIPAS | P69: CAIBROS | AC69: TERÇAS INCLINADA | AM69: TERÇAS RETA
C70: Permanente | D70: 0.6 | F70: ELU | P70: ELU | AC70: ELU | AM70: ELU
C71: Longa duração | D71: 0.7 | H71: Ao longo do eixo x | L71: Ao longo do eixo y | Q71: eixo z | V71: eixo y | AE71: eixo x | AJ71: eixo y | AO71: EIXO Y
C72: Média duração | D72: 0.8 | R72: =CMB!D67*(DSB!I29) -> 0.34471733
C73: Curta duração | D73: 0.9 | T73: =CMB!$F$67*DSB!I29/2 -> 0.5713012
C74: Instantânea | D74: 1.1
C76: Kmod2 | E76: φ | J76: =CMB!$D$25*DSB!F29/2 -> 0.040992838 | N76: =CMB!$F$25*DSB!F29/2 -> 0.13587514 | AG76: =CMB!$D$112*DSB!C36/2 -> 0.65553648 | AL76: =CMB!$F$112*DSB!C36/2 -> 2.1728456 | AQ76: =CMB!R111*DSB!C36/2 -> 2.2522133
C77: (1) | D77: 1 | E77: 0.6
C78: (2) | D78: 0.9 | E78: 0.8
C79: (3) | D79: 0.8 | E79: 0.8
C80: (4) | D80: 0.7 | E80: 2
...

Sheet AXC
B3: CAIBROS | U3: TERÇA INC | Y3: TRELIÇA
B4: FLEXOCOMPRESSÃO EM Z | K4: FLEXOCOMPRESSÃO EM Y | Y4: =VRF!AB47 -> BANZO SUPERIOR - Barra 3 | AH4: =VRF!AE47 -> DIAGONAL - Barra 4
B5: Classificação da Barra | E5: Classificação da Barra | H5: Deslocamento | K5: Classificação da Barra | N5: Classificação da Barra | T5: Deslocamento Instantâneo | Y5: Classificação da Barra | AB5: Classificação da Barra | AH5: Classificação da Barra | AK5: Classificação da Barra
B6: i | C6: =VRF!M19 -> 1.6 | E6: i | F6: =C6 -> 1.6 | H6: Instantâneo | K6: i | L6: =VRF!M25 -> 133.42554 | N6: i | O6: =L6 -> 133.42554 | U6: δlim | V6: δx | W6: δy | Y6: i | Z6: =VRF!AC17/SQRT(12) -> 2.3094011 | AB6: i | AC6: =Z6 -> 2.3094011 | AH6: i | AI6: =VRF!AF50 -> 2.3094011 | AK6: i | AL6: =AI6 -> 2.3094011
B7: λ | C7: =VRF!M20 -> 2.155868 | E7: λ | F7: =C7 -> 2.155868 | H7: δy,normal | I7: =(5/384)*((VRF!P13/100)*(VRF!M11^4))/(RST!$N$12*VRF!P9) -> 0.31063719 | K7: λ | L7: =VRF!M26 -> 2.2023717 | N7: λ | O7: =L7 -> 2.2023717 | T7: δnormal | U7: =VRF!U18/300 -> 0.83333333 | V7: =(5/384)*((CMB!D138/100)*(VRF!U18^4))/(RST!$N$12*VRF!X10) -> 0.38124589 | W7: =(5/384)*((CMB!F138/100)*(VRF!X18^4))/(RST!$N$12*VRF!X9) -> 0.17770503 | Y7: λ | Z7: =VRF!AC49*100/Z6 -> 66.712771 | AB7: λ | AC7: =Z7 -> 66.712771 | AH7: λ | AI7: =VRF!AF52 -> 1.1011858 | AK7: λ | AL7: =AI7 -> 1.1011858
B8: CURTA | E8: PEÇA ESBELTA | H8: δy,1kN | I8: =(1/384)*((VRF!M11^3)/(RST!$N$12*VRF!P9))*(5*((CRG!G14*CMB!J67)/100)*VRF!M11+8*CMB!L60) -> 0.81041633 | K8: CURTA | N8: =E8 -> PEÇA ESBELTA | T8: δ1kN | V8: =(1/384)*((VRF!U18^3)/(RST!$N$12*VRF!X10))*(5*((CRG!J13*CMB!J112)/100)*VRF!U18+8*CMB!J105) -> 0.46263735 | W8: =(1/384)*((VRF!U18^3)/(RST!$N$12*VRF!X9))*(5*((CRG!J14*CMB!J112)/100)*VRF!U18+8*CMB!L105) -> 0.21564293 | Y8: CURTA | AB8: PEÇA ESBELTA | AH8: CURTA | AK8: PEÇA ESBELTA
B9: σNd | E9: Md | F9: =VRF!M14 -> 51.740831 | H9: δy | I9: =LARGE(I7:I8,1) -> 0.81041633 | K9: σNd | N9: σNd | T9: δinst | V9: =MAX(V7:V8) -> 0.46263735 | W9: =MAX(W7:W8) -> 0.21564293 | Y9: σNd | AB9: σNd | AH9: σNd | AK9: σNd
B10: fcd | C10: =RST!$N$8 -> 1.6 | E10: σMd | H10: δy,lim | I10: =VRF!M11/300 -> 0.51355515 | K10: fcd | L10: =RST!$N$8 -> 1.6 | N10: fcd | O10: =RST!$N$8 -> 1.6 | Y10: fcd | Z10: =RST!$N$8 -> 1.6 | AB10: fcd | AC10: =RST!$N$8 -> 1.6 | AH10: fcd | AI10: =RST!$N$8 -> 1.6 | AK10: fcd | AL10: =RST!$N$8 -> 1.6
B11: σNd | C11: =VRF!M15/(VRF!$M$9*VRF!$M$10) -> 0.021738324 | E11: σMd | F11: =$F$9*(VRF!$M$9/2)/VRF!$P$9 -> 2.155868 | H11: =IF($I$9<=$I$10,"ATENDE","NÃO ATENDE") -> NÃO ATENDE | K11: σNd | L11: =VRF!M15/VRF!M12 -> 0.021738324 | N11: σNd | O11: =L25 -> 0.020590475 | T11: Deslocamento Final | Y11: σNd | Z11: =VRF!AC48/(VRF!$AC$16*VRF!$AC$17) -> 0.31012615 | AB11: σNd | AC11: =Z20 -> 0.50488584 | AH11: σNd | AI11: =VRF!AF48/(VRF!$AC$16*VRF!$AC$17) -> 0.10337538 | AK11: σNd | AL11: =AI20 -> 0.097546623
B12: =IF($C$11<=$C$10,"ATENDE","NÃO ATENDE") -> ATENDE | E12: σNd | H12: Final | K12: =IF($L$11<=$L$10,"ATENDE","NÃO ATENDE") -> ATENDE | N12: =IF($O$11<=$O$10,"ATENDE","NÃO ATENDE") -> ATENDE | U12: δlim | V12: δx | W12: δy | Y12: =IF($Z$11<=$Z$10,"ATENDE","NÃO ATENDE") -> ATENDE | AB12: =IF($AC$11<=$AC$10,"ATENDE","NÃO ATENDE") -> ATENDE | AH12: =IF($AI$11<=$AI$10,"ATENDE","NÃO ATENDE") -> ATENDE | AK12: =IF($AL$11<=$AL$10,"ATENDE","NÃO ATENDE") -> ATENDE
B13: σMd | E13: fcd | F13: =RST!$N$8 -> 1.6 | H13: δy,normal | I13: =(5/384)*((VRF!P14/100)*(VRF!M11^4))/(RST!$N$12*VRF!P9) -> 0.38934468 | K13: σMd | N13: Verificação | T13: δnormal | U13: =VRF!U18/150 -> 1.6666667 | V13: =(5/384)*((CMB!D141/100)*(VRF!U18^4))/(RST!$N$12*VRF!X10) -> 0.48606837 | W13: =(5/384)*((CMB!F141/100)*(VRF!X18^4))/(RST!$N$12*VRF!X9) -> 0.22656452 | AB13: Verificação | AK13: Verificação
B14: σMd | C14: =VRF!M14*(VRF!$M$9/2)/VRF!$P$9 -> 2.155868 | E14: σNdX | F14: =C25 -> 0.0205872 | H14: δy,1kN | I14: =(1/384)*((VRF!M11^3)/(RST!$N$12*VRF!P9))*(5*((CRG!G14*CMB!J67)/100)*VRF!M11+8*CMB!L60*CMB!G9)*(1+VRF!P15) -> 0.62923867 | K14: σMd | L14: =0 -> 0 | N14: Valor | O14: =($O$11)/$O$10 -> 0.012869047 | T14: δ1kN | V14: =(1/384)*((VRF!U18^3)/(RST!$N$12*VRF!X10))*(5*((CRG!J13*CMB!J112)/100)*VRF!U18+8*CMB!J105*CMB!G9)*(1+RST!E10) -> 0.52513626 | W14: =(1/384)*((VRF!U18^3)/(RST!$N$12*VRF!X9))*(5*((CRG!J14*CMB!J112)/100)*VRF!U18+8*CMB!L105*CMB!G9)*(1+RST!E10) -> 0.24477472 | Y14: E005 | Z14: =DSB!C47*0.7 -> 11900 | AB14: Valor | AC14: =(AC11)/AC10 -> 0.31555365 | AH14: E005 | AI14: =Z14 -> 11900 | AK14: Valor | AL14: =(AL11)/AL10 -> 0.060966639
B15: Verificação | E15: =IF($F$14<=$F$13,"ATENDE","NÃO ATENDE") -> ATENDE | H15: δy | I15: =LARGE(I13:I14,1) -> 0.62923867 | K15: Verificação | N15: =IF($O$14<=1,"ATENDE ≤ 1","NÃO ATENDE > 1") -> ATENDE ≤ 1 | T15: δfinal | V15: =MAX(V13:V14) -> 0.52513626 | W15: =MAX(W13:W14) -> 0.24477472 | Y15: fc0k | Z15: =DSB!I46 -> 32 | AB15: =IF($AC$14<=1,"ATENDE ≤ 1","NÃO ATENDE > 1") -> ATENDE ≤ 1 | AH15: fc0k | AI15: =Z15 -> 32 | AK15: =IF($AL$14<=1,"ATENDE ≤ 1","NÃO ATENDE > 1") -> ATENDE ≤ 1
B16: Valor | C16: =(($C$11/$C$10)^2)+($C$14/$C$10) -> 1.3476021 | E16: Verificação | H16: δy,lim | I16: =VRF!M11/150 -> 1.0271103 | K16: Valor | L16: =((L11/$C$10)^2)+(L14/$C$10) -> 0.0001845917 | T16: Deslocamento - mais crítico | Y16: λrely | Z16: =Z7/PI()*(Z15/Z14)^0.5 -> 1.1011858 | AH16: λrely | AI16: =AI7/PI()*(AI15/AI14)^0.5 -> 0.018176583
B17: =IF($C$16<=1,"ATENDE ≤ 1","NÃO ATENDE > 1") -> NÃO ATENDE > 1 | E17: Valor | F17: =($F$11+$F$14)/$F$13 -> 1.3602845 | H17: =IF($I$15<=$I$16,"ATENDE","NÃO ATENDE") -> ATENDE | K17: =IF($L$16<=1,"ATENDE ≤ 1","NÃO ATENDE > 1") -> ATENDE ≤ 1 | V17: δx | W17: δy | Y17: ϐc | Z17: 0.2 | AH17: ϐc | AI17: 0.2
E18: =IF($F$17<=1,"ATENDE ≤ 1","NÃO ATENDE > 1") -> NÃO ATENDE > 1 | H18: Verificação -crítica | U18: δmáx | V18: =IF((V9/$U$7)>=(V15/$U$13),V9,V15) -> 0.46263735 | W18: =IF((W9/$U$7)>=(W15/$U$13),W9,W15) -> 0.21564293 | Y18: ky | Z18: =0.5*(1+Z17*(Z16-0.3)+Z16^2) -> 1.1864237 | AH18: ky | AI18: =0.5*(1+AI17*(AI16-0.3)+AI16^2) -> 0.47198285
B19: E005 | C19: =Z14 -> 11900 | H19: δy | I19: =IF((I9/I10)>=(I15/I16),I9,I15) -> 0.81041633 | K19: E005 | L19: =AI14 -> 11900 | U19: δlim | V19: =IF(V18=V9,U7,U13) -> 0.83333333 | W19: =IF(W18=W9,U7,U13) -> 0.83333333 | Y19: kcy | Z19: =1/(Z18+(Z18^2-Z16^2)^0.5) -> 0.61425005 | AH19: kcy | AI19: =1/(AI18+(AI18^2-AI16^2)^0.5) -> 1.0597536
B20: fc0k | C20: =Z15 -> 32 | H20: δlim | I20: =IF(I19=I9,I10,I16) -> 0.51355515 | K20: fc0k | L20: =AI15 -> 32 | Y20: σNd | Z20: =VRF!AC48/(VRF!$AC$16*VRF!$AC$17*Z19) -> 0.50488584 | AH20: σNd | AI20: =VRF!AF48/(VRF!$AC$16*VRF!$AC$17*AI19) -> 0.097546623 | AK20: Valor | AL20: Verificação
B21: λrelz | C21: =C7/PI()*(C20/C19)^0.5 -> 0.035585559 | H21: =IF($I$19<=$I$20,"ATENDE","NÃO ATENDE") -> NÃO ATENDE | K21: λrely | L21: =L7/PI()*(L20/L19)^0.5 -> 0.036353166 | AB21: Valor | AC21: Verificação | AJ21: =AH8 -> CURTA | AK21: =AI11 -> 0.10337538 | AL21: =AH12 -> ATENDE
B22: ϐc | C22: 0.2 | K22: ϐc | L22: 0.2 | AA22: =Y8 -> CURTA | AB22: =Z11 -> 0.31012615 | AC22: =Y12 -> ATENDE | AJ22: =AK8 -> PEÇA ESBELTA | AK22: =AL14 -> 0.060966639 | AL22: =AK15 -> ATENDE ≤ 1
B23: kz | C23: =0.5*(1+C22*(C21-0.3)+C21^2) -> 0.47419172 | K23: ky | L23: =0.5*(1+L22*(L21-0.3)+L21^2) -> 0.47429609 | AA23: =AB8 -> PEÇA ESBELTA | AB23: =AC14 -> 0.31555365 | AC23: =AB15 -> ATENDE ≤ 1
B24: kcz | C24: =1/(C23+(C23^2-C21^2)^0.5) -> 1.0559146 | K24: kcy | L24: =1/(L23+(L23^2-L21^2)^0.5) -> 1.0557466 | AJ24: ERRO | AK24: - | AL24: NÃO ATENDE (λ > 140)
B25: σNd | C25: =VRF!M15/(VRF!$M$9*VRF!$M$10*C24) -> 0.0205872 | E25: Valor | F25: Verificação | K25: σNd | L25: =VRF!M15/(VRF!$M$9*VRF!$M$10*L24) -> 0.020590475 | AA25: ERRO | AB25: - | AC25: NÃO ATENDE (λ > 140)
D26: =B8 -> CURTA | E26: =C16 -> 1.3476021 | F26: =B17 -> NÃO ATENDE > 1 | N26: Valor | O26: Verificação
D27: =E8 -> PEÇA ESBELTA | E27: =F17 -> 1.3602845 | F27: =E18 -> NÃO ATENDE > 1 | M27: =K8 -> CURTA | N27: =L16 -> 0.0001845917 | O27: =K17 -> ATENDE ≤ 1 | Y27: Barras tracionadas - esbeltez FORA do plano
M28: =N8 -> PEÇA ESBELTA | N28: =O14 -> 0.012869047 | O28: =N15 -> ATENDE ≤ 1 | Y28: BANZO INFERIOR - COMPLETO
D29: ERRO | E29: - | F29: NÃO ATENDE (λ > 140) | Y29: =DSB!F36 -> 1 | Z29: =IF(Y29=0,(VRF!$AC$32/VRF!$AC$33),(VRF!$AC$32/VRF!$AC$33)/(Y29+1)) -> 127.73875 | AA29: =IF(Z29<=173,"ATENDE","NÃO ATENDE") -> ATENDE
M30: ERRO | N30: - | O30: NÃO ATENDE (λ > 140) | Z30: =CONCATENATE(Y29," contenção(ões) ao longo do banzo inferior, além de 2 nas extremidades") -> 1 contenção(ões) ao longo do banzo inferior, além de 2 nas extremidades | AF30: =AA29 -> ATENDE
Y31: Barras tracionadas - esbeltez DENTRO do plano
Y32: BANZO INFERIOR - Barra 1
Y33: 1 | Z33: =(VRF!AC26/VRF!AC27)/Y33 -> 102.191 | AA33: =IF(Z33<=173,"ATENDE","NÃO ATENDE") -> ATENDE
AF34: =AA33 -> ATENDE
Y35: MONTENTE - BARRA 5
Y36: 1 | Z36: =(VRF!AF26/VRF!AF27)/Y36 -> 38.53813 | AA36: =IF(Z36<=173,"ATENDE","NÃO ATENDE") -> ATENDE
AF37: =AA36 -> ATENDE
Y39: Barras tracionadas - esbeltez FORA do plano
Y40: BANZO INFERIOR - COMPLETO
Y41: =DSB!I36 -> 1 | Z41: =IF(Y41=0,(VRF!AC63/VRF!AC64),(VRF!AC63/VRF!AC64)/(Y41+1)) -> 66.712771 | AA41: =IF(Z41<=173,"ATENDE","NÃO ATENDE") -> ATENDE
Z42: =CONCATENATE(Y41," contenção(ões) ao longo do banzo superior além de 2 nas extremidades") -> 1 contenção(ões) ao longo do banzo superior além de 2 nas extremidades | AF42: =AA41 -> ATENDE

Sheet AXD
Y1: TELHAS
Y2: m² | Z2: qt | AA2: R$
Y3: =2*(AXA!C15+AXA!C9)*(DSB!C8+2*DSB!I6) -> 163.17475 | Z3: =Y3*DSB!$F$20 -> 2610.796 | AA3: =(Y4/1000)*DSB!G67 -> 1566.6
G4: ITEM | H4: RST | I4: SLT | J4: % | K4: % | M4: RST | O4: SLT | Y4: =ROUNDUP(Z3,0) -> 2611
G5: RIPAS | Y5: unidade | Z5: m | AA5: R$
G6: Flexão oblíqua | H6: 1 | I6: =IF(VRF!G38>=VRF!G42,VRF!G38,VRF!G42) -> 0.8428212 | J6: =I6/H6 -> 0.8428212 | K6: =IF(J6<1,1-J6,0) -> 0.1571788 | L6: =G6 -> Flexão oblíqua | M6: =H6 -> 1 | O6: =I6 -> 0.8428212 | R6: =IF(J6>1,J6,0) -> 0 | Y6: =2*(((AXA!C15+AXA!C9)/DSB!C29)+2) -> 24.065759 | Z6: =Y7*(DSB!C8+2*DSB!I6) -> 535 | AA6: =Z6*DSB!G69 -> 9630
G7: Cisalhamento | H7: =VRF!E46 -> 0.175 | I7: =VRF!E47 -> 0.027175028 | J7: =I7/H7 -> 0.15528587 | K7: =IF(J7<1,1-J7,0) -> 0.84471413 | L7: =G7 -> Cisalhamento | M7: =H7 -> 0.175 | N7: kN/cm² | O7: =I7 -> 0.027175028 | P7: kN/cm² | R7: =IF(J7>1,J7,0) -> 0 | Y7: =ROUNDUP(Y6,0) -> 25
G8: Deslocamento | H8: =VRF!H53 -> 0.23333333 | I8: =VRF!H54 -> 0.35449613 | J8: =I8/H8 -> 1.5192691 | K8: =IF(J8<1,1-J8,0) -> 0 | L8: =G8 -> Deslocamento | M8: =H8 -> 0.23333333 | N8: cm | O8: =I8 -> 0.35449613 | P8: cm | R8: =IF(J8>1,J8,0) -> 1.5192691
G9: Compressão normal às fibras | H9: =VRF!E50 -> 0.4 | I9: =VRF!E54 -> 0.013587514 | J9: =I9/H9 -> 0.033968785 | K9: =IF(J9<1,1-J9,0) -> 0.96603122 | L9: =G9 -> Compressão normal às fibras | M9: =H9 -> 0.4 | N9: kN/cm² | O9: =I9 -> 0.013587514 | P9: kN/cm² | R9: =IF(J9>1,J9,0) -> 0
F10: =IF(OR(J6>1,J7>1,J8>1,J9>1),"Não Atente","Sim Atende") -> Não Atente | G10: GERAL | J10: =LARGE(J6:J9,1) -> 1.5192691 | K10: =IF(J10<1,1-J10,0) -> 0 | L10: =VLOOKUP(J10,J6:O9,3,0) -> Deslocamento | M10: =ROUNDDOWN(VLOOKUP($J$10,$J$6:$P$9,4,0),2) -> 0.23 | N10: =VLOOKUP($J$10,$J$6:$P$9,5,0) -> cm | O10: =ROUNDDOWN(VLOOKUP($J$10,$J$6:$P$9,6,0),2) -> 0.35 | P10: =VLOOKUP($J$10,$J$6:$P$9,7,0) -> cm | Q10: =CONCATENATE("Solicitação ",O10," ",IF(P10=0," ",P10)) -> Solicitação 0,35 cm | R10: =IF(J10>1,J10,0) -> 1.5192691 | S10: =CONCATENATE("Resistência ",M10," ",IF(N10=0," ",N10)) -> Resistência 0,23 cm
G11: CAIBROS | H11: res | I11: solic | J11: % | K11: % | Y11: unidade | Z11: m | AA11: R$
G12: Flexão simples | H12: =VRF!M19 -> 1.6 | I12: =VRF!M20 -> 2.155868 | J12: =IF(I12="-",0,I12/H12) -> 1.3474175 | K12: =IF(J12<1,1-J12,0) -> 0 | L12: =G12 -> Flexão simples | M12: =H12 -> 1.6 | N12: kN/cm² | O12: =I12 -> 2.155868 | P12: =N12 -> kN/cm² | R12: =IF(J12>1,J12,0) -> 1.3474175 | Y12: =2*(((DSB!C8+2*DSB!I6)/DSB!F29)+1) -> 63.142857 | Z12: =Y14*(AXA!C15+AXA!C9) -> 243.99963 | AA12: =Z12*DSB!G71 -> 6343.9903
G13: Compressão | H13: =VRF!M29 -> 1.6 | I13: =VRF!M30 -> 0.11562633 | J13: =IF(I13="-",0,I13/H13) -> 0.072266454 | K13: =IF(J13<1,1-J13,0) -> 0.92773355 | L13: =G13 -> Compressão | M13: =H13 -> 1.6 | N13: kN/cm² | O13: =I13 -> 0.11562633 | P13: =N13 -> kN/cm² | R13: =IF(J13>1,J13,0) -> 0
G14: Flexocompressão | H14: 1 | I14: =VRF!M37 -> 1.3526399 | J14: =IF(I14="-",0,I14/H14) -> 1.3526399 | K14: =IF(J14<1,1-J14,0) -> 0 | L14: =G14 -> Flexocompressão | M14: =H14 -> 1 | O14: =I14 -> 1.3526399 | P14: =N14 | R14: =IF(J14>1,J14,0) -> 1.3526399 | Y14: =EVEN(Y12) -> 64
G15: Cisalhamento | H15: =VRF!P19 -> 0.175 | I15: =VRF!P20 -> 0.054040498 | J15: =I15/H15 -> 0.30880284 | K15: =IF(J15<1,1-J15,0) -> 0.69119716 | L15: =G15 -> Cisalhamento | M15: =H15 -> 0.175 | N15: kN/cm² | O15: =I15 -> 0.054040498 | P15: =N15 -> kN/cm² | R15: =IF(J15>1,J15,0) -> 0
G16: Deslocamento | H16: =VRF!P23 -> 0.51355515 | I16: =VRF!P24 -> 0.81041633 | J16: =I16/H16 -> 1.5780512 | K16: =IF(J16<1,1-J16,0) -> 0 | L16: =G16 -> Deslocamento | M16: =H16 -> 0.51355515 | N16: cm | O16: =I16 -> 0.81041633 | P16: =N16 -> cm | R16: =IF(J16>1,J16,0) -> 1.5780512
G17: Compressão normal às fibras | H17: =VRF!P27 -> 0.4 | I17: =VRF!P31 -> 0.072053997 | J17: =I17/H17 -> 0.18013499 | K17: =IF(J17<1,1-J17,0) -> 0.81986501 | L17: =G17 -> Compressão normal às fibras | M17: =H17 -> 0.4 | N17: kN/cm² | O17: =I17 -> 0.072053997 | P17: =N17 -> kN/cm² | R17: =IF(J17>1,J17,0) -> 0
G18: Flambagem Lateral | H18: =VRF!P37 -> 4.3120052 | I18: =VRF!P38 -> 2.1776063 | J18: =IF(H18="-",0,I18/H18) -> 0.50501012 | K18: =IF(J18<1,1-J18,0) -> 0.49498988 | L18: =G18 -> Flambagem Lateral | M18: =H18 -> 4.3120052 | N18: kN/cm² | O18: =I18 -> 2.1776063 | P18: =N18 -> kN/cm² | R18: =IF(J18>1,J18,0) -> 0
F19: =IF(OR(J12>1,J13>1,J14>1,J15>1,J16>1,J17>1,J18>1),"Não Atente","Sim Atende") -> Não Atente | G19: GERAL | H19: 0 | I19: =VRF!H62 -> 0 | J19: =LARGE(J12:J18,1) -> 1.5780512 | K19: =IF(J19<1,1-J19,0) -> 0 | L19: =VLOOKUP(J19,J12:O18,3,0) -> Deslocamento | M19: =ROUNDDOWN(VLOOKUP($J$19,$J$12:$P$18,4,0),2) -> 0.51 | N19: =VLOOKUP($J$19,$J$12:$P$18,5,0) -> cm | O19: =ROUNDDOWN(VLOOKUP($J$19,$J$12:$P$18,6,0),2) -> 0.81 | P19: =VLOOKUP($J$19,$J$12:$P$18,7,0) -> cm | Q19: =CONCATENATE("Solicitação ",O19," ",IF(P19=0," ",P19)) -> Solicitação 0,81 cm | R19: =IF(J19>1,J19,0) -> 1.5780512 | S19: =CONCATENATE("Resistência ",M19," ",IF(N19=0," ",N19)) -> Resistência 0,51 cm | Y19: unidade | Z19: m | AA19: R$
G20: TERÇAS | H20: res | I20: solic | J20: % | K20: % | Y20: 6 | Z20: =Y21*(DSB!C8+2*DSB!I6) -> 128.4 | AA20: =Z20*DSB!G73 -> 3852
G21: Flexão Oblíqua | H21: 1 | I21: =IF(VRF!W38>=VRF!W42,VRF!W38,VRF!W42) -> 0.58873542 | J21: =I21/H21 -> 0.58873542 | K21: =IF(J21<1,1-J21,0) -> 0.41126458 | L21: =G21 -> Flexão Oblíqua | M21: =H21 -> 1 | O21: =I21 -> 0.58873542 | P21: =N21 | R21: =IF(J21>1,J21,0) -> 0 | Y21: =ROUNDUP(Y20,0) -> 6
G22: Cisalhamento | H22: =VRF!U46 -> 0.175 | I22: =VRF!U47 -> 0.033950713 | J22: =I22/H22 -> 0.19400408 | K22: =IF(J22<1,1-J22,0) -> 0.80599592 | L22: =G22 -> Cisalhamento | M22: =H22 -> 0.175 | N22: kN/cm² | O22: =I22 -> 0.033950713 | P22: =N22 -> kN/cm² | R22: =IF(J22>1,J22,0) -> 0 | Y22: 1 | Z22: 0.93 | AA22: =Z22/Y22 -> 0.93 | AB22: =IF(AA22<1,1-AA22,0) -> 0.07
G23: Deslocamento | H23: =VRF!Y50 -> 0.83333333 | I23: =VRF!Y51 -> 0.46263735 | J23: =I23/H23 -> 0.55516482 | K23: =IF(J23<1,1-J23,0) -> 0.44483518 | L23: =G23 -> Deslocamento | M23: =H23 -> 0.83333333 | N23: cm | O23: =I23 -> 0.46263735 | P23: =N23 -> cm | R23: =IF(J23>1,J23,0) -> 0
G24: Compressão normal às fibras x | H24: =VRF!U51 -> 0.4 | I24: =VRF!U55 -> 0.010242758 | J24: =I24/H24 -> 0.025606894 | K24: =IF(J24<1,1-J24,0) -> 0.97439311 | L24: =G24 -> Compressão normal às fibras x | M24: =H24 -> 0.4 | N24: kN/cm² | O24: =I24 -> 0.010242758 | P24: =N24 -> kN/cm² | R24: =IF(J24>1,J24,0) -> 0
G25: Compressão normal às fibras y | H25: =VRF!X56 -> 0.4 | I25: =VRF!X60 -> 0.090535235 | J25: =I25/H25 -> 0.22633809 | K25: =IF(J25<1,1-J25,0) -> 0.77366191 | L25: =G25 -> Compressão normal às fibras y | M25: =H25 -> 0.4 | N25: kN/cm² | O25: =I25 -> 0.090535235 | P25: =N25 -> kN/cm² | R25: =IF(J25>1,J25,0) -> 0
G26: Flambagem Lateral | H26: =VRF!U62 -> 2.5729006 | I26: =VRF!U63 -> 1.0874199 | J26: =IF(H26="-",0,I26/H26) -> 0.42264359 | K26: =IF(J26<1,1-J26,0) -> 0.57735641 | L26: =G26 -> Flambagem Lateral | M26: =H26 -> 2.5729006 | N26: kN/cm² | O26: =I26 -> 1.0874199 | P26: =N26 -> kN/cm² | R26: =IF(J26>1,J26,0) -> 0
F27: =IF(OR(J21>1,J22>1,J23>1,J24>1,J25>1,J26>1),"Não Atente","Sim Atende") -> Sim Atende | G27: GERAL | H27: 0 | I27: =VRF!H69 -> 0 | J27: =LARGE(J21:J26,1) -> 0.58873542 | K27: =IF(J27<1,1-J27,0) -> 0.41126458 | L27: =VLOOKUP(J27,J21:O26,3,0) -> Flexão Oblíqua | M27: =ROUNDDOWN(VLOOKUP($J$27,$J$21:$P$26,4,0),2) -> 1 | N27: =VLOOKUP($J$27,$J$21:$P$26,5,0) | O27: =ROUNDDOWN(VLOOKUP($J$27,$J$21:$P$26,6,0),2) -> 0.58 | P27: =VLOOKUP($J$27,$J$21:$P$26,7,0) | Q27: =CONCATENATE("Solicitação ",O27," ",IF(P27=0," ",P27)) -> Solicitação 0,58 | R27: =IF(J27>1,J27,0) -> 0 | S27: =CONCATENATE("Resistência ",M27," ",IF(N27=0," ",N27)) -> Resistência 1 | Y27: unidade | Z27: m | AA27: R$
G28: TRELIÇAS | H28: res | I28: solic | J28: % | K28: % | Y28: =(DSB!C8-DSB!I8)/DSB!C36+1 -> 8.96 | Z28: =Y29*AXA!C25 -> 144.30593 | AA28: =Z28*DSB!G75 -> 4329.178
G29: Tração - Barra 1 | H29: =VRF!AC22 -> 1.6 | I29: =VRF!AC23 -> 0.39587749 | J29: =I29/H29 -> 0.24742343 | K29: =IF(J29<1,1-J29,0) -> 0.75257657 | L29: =G29 -> Tração - Barra 1 | M29: =H29 -> 1.6 | N29: kN/cm² | O29: =I29 -> 0.39587749 | P29: =N29 -> kN/cm² | R29: =IF(J29>1,J29,0) -> 0 | Y29: =ROUNDUP(Y28,0) -> 9
G30: Tração - Barra 5 | H30: =VRF!AF22 -> 1.6 | I30: =VRF!AF23 -> 0.079622817 | J30: =I30/H30 -> 0.049764261 | K30: =IF(J30<1,1-J30,0) -> 0.95023574 | L30: =G30 -> Tração - Barra 5 | M30: =H30 -> 1.6 | N30: kN/cm² | O30: =I30 -> 0.079622817 | P30: =N30 -> kN/cm² | R30: =IF(J30>1,J30,0) -> 0
G31: Esbeltez no plano - Barra 1 | H31: 173 | I31: =VRF!AC28 -> 102.191 | J31: =I31/H31 -> 0.59069941 | K31: =IF(J31<1,1-J31,0) -> 0.40930059 | L31: =G31 -> Esbeltez no plano - Barra 1 | M31: =H31 -> 173 | O31: =I31 -> 102.191 | P31: =N31 | R31: =IF(J31>1,J31,0) -> 0
G32: Esbeltez no plano - Barra 5 | H32: 173 | I32: =VRF!AF28 -> 38.53813 | J32: =I32/H32 -> 0.22276376 | K32: =IF(J32<1,1-J32,0) -> 0.77723624 | L32: =G32 -> Esbeltez no plano - Barra 5 | M32: =H32 -> 173 | O32: =I32 -> 38.53813 | P32: =N32 | R32: =IF(J32>1,J32,0) -> 0
G33: Esbeltez fora do plano - Banzo Inferior | H33: 173 | I33: =VRF!AC35 -> 127.73875 | J33: =I33/H33 -> 0.73837426 | K33: =IF(J33<1,1-J33,0) -> 0.26162574 | L33: =G33 -> Esbeltez fora do plano - Banzo Inferior | M33: =H33 -> 173 | O33: =I33 -> 127.73875 | P33: =N33 | R33: =IF(J33>1,J33,0) -> 0
G34: Compressão normal às fibras | H34: =VRF!AD74 -> 0.4 | I34: =VRF!AD78 -> 0.14556338 | J34: =I34/H34 -> 0.36390845 | K34: =IF(J34<1,1-J34,0) -> 0.63609155 | L34: =G34 -> Compressão normal às fibras | M34: =H34 -> 0.4 | N34: kN/cm² | O34: =I34 -> 0.14556338 | P34: =N34 -> kN/cm² | R34: =IF(J34>1,J34,0) -> 0
G35: Deslocamento | H35: =VRF!AD89 -> 3.9333333 | I35: =VRF!AD90 -> 0.60809303 | J35: =I35/H35 -> 0.15459992 | K35: =IF(J35<1,1-J35,0) -> 0.84540008 | L35: =G35 -> Deslocamento | M35: =H35 -> 3.9333333 | N35: cm | O35: =I35 -> 0.60809303 | P35: =N35 -> cm | R35: =IF(J35>1,J35,0) -> 0
G36: Compressão - Barra 3 | H36: =VRF!AC55 -> 1.6 | I36: =VRF!AC56 -> 0.50488584 | J36: =IF(I36="-",0,I36/H36) -> 0.31555365 | K36: =IF(J36<1,1-J36,0) -> 0.68444635 | L36: =G36 -> Compressão - Barra 3 | M36: =H36 -> 1.6 | N36: kN/cm² | O36: =I36 -> 0.50488584 | P36: =N36 -> kN/cm² | R36: =IF(J36>1,J36,0) -> 0
G37: Compressão - Barra 4 | H37: =VRF!AF55 -> 1.6 | I37: =VRF!AF56 -> 0.16829528 | J37: =IF(I37="-",0,I37/H37) -> 0.10518455 | K37: =IF(J37<1,1-J37,0) -> 0.89481545 | L37: =G37 -> Compressão - Barra 4 | M37: =H37 -> 1.6 | N37: kN/cm² | O37: =I37 -> 0.16829528 | P37: =N37 -> kN/cm² | R37: =IF(J37>1,J37,0) -> 0
G38: Esbeltez no plano - Barra 3 | H38: 140 | I38: =VRF!AC59 -> 53.370216 | J38: =IF(I38="-",0,I38/H38) -> 0.38121583 | K38: =IF(J38<1,1-J38,0) -> 0.61878417 | L38: =G38 -> Esbeltez no plano - Barra 3 | M38: =H38 -> 140 | O38: =I38 -> 53.370216
G39: Esbeltez no plano - Barra 4 | H39: 140 | I39: =VRF!AF59 -> 53.370216 | J39: =IF(I39="-",0,I39/H39) -> 0.38121583 | K39: =IF(J39<1,1-J39,0) -> 0.61878417 | L39: =G39 -> Esbeltez no plano - Barra 4 | M39: =H39 -> 140 | O39: =I39 -> 53.370216
G40: Esbeltez fora do plano - Banzo Superior | H40: 140 | I40: =VRF!AC66 -> 66.712771 | J40: =IF(I40="-",0,I40/H40) -> 0.47651979 | K40: =IF(J40<1,1-J40,0) -> 0.52348021 | L40: =G40 -> Esbeltez fora do plano - Banzo Superior | M40: =H40 -> 140 | O40: =I40 -> 66.712771 | AA40: Telha | AB40: =AA3 -> 1566.6 | AC40: =(AB40/$AB$45) -> 0.060905611
...

Sheet LGC A
B4: MÓDULO: LIGAÇÕES (MODELO A)
B9: Nó A | H9: Nó F
B11: Entalhe | H11: Entalhe
B12: Nd | C12: 2 | D12: kN | H12: Nd | I12: 1 | J12: kN
B13: β | C13: 15 | D13: ° | H13: β | I13: 15 | J13: °
B14: β | C14: =RADIANS(C13) -> 0.26179939 | D14: rad | H14: β | I14: =RADIANS(I13) -> 0.26179939 | J14: rad
B15: b | C15: 6 | D15: cm | H15: b | I15: 6 | J15: cm
B16: h | C16: 12 | D16: cm | H16: h | I16: 12 | J16: cm
B17: f0 | C17: 2 | D17: kN/cm² | H17: f0 | I17: 2 | J17: kN/cm²
B18: f90 | C18: =0.25*C17 -> 0.5 | D18: kN/cm² | H18: f90 | I18: =0.25*I17 -> 0.5 | J18: kN/cm²
B19: fcβd | C19: =C17*C18/(C17*SIN(C14)^2+C18*COS(C14)^2) -> 1.6653318 | D19: kN/cm² | H19: fcβd | I19: =I17*I18/(I17*SIN(I14)^2+I18*COS(I14)^2) -> 1.6653318 | J19: kN/cm²
B20: Dente | H20: Dente
B21: t | C21: =C12*COS(C14)/(C15*C19) -> 0.19334002 | D21: cm | H21: t | I21: =I12*COS(I14)/(I15*I19) -> 0.096670009 | J21: cm
B22: t aprox | C22: =_xlfn.CEILING.MATH(C21,0.5) -> 0.5 | D22: cm | H22: t aprox | I22: =_xlfn.CEILING.MATH(I21,0.5) -> 0.5 | J22: cm
B23: t max | C23: =C16/4 -> 3 | D23: cm | H23: t max | I23: =I16/8 -> 1.5 | J23: cm
B24: t min | C24: =C16/8 -> 1.5 | D24: cm | H24: t min | I24: =I16/16 -> 0.75 | J24: cm
B25: t adot | C25: =IF(C23<C22,C23,IF(C22<C24,C24,C22)) -> 1.5 | D25: cm | H25: t adot | I25: =IF(I23<I22,I23,IF(I22<I24,I24,I22)) -> 0.75 | J25: cm
B26: Verificação | C26: =IF(C22>C23,"Não Atende","Atende") -> Atende | H26: Verificação | I26: =IF(I22>I23,"Não Atende","Atende") -> Atende
B27: Folga | H27: Folga
B28: fvd | C28: 1 | D28: kN/cm² | H28: fvd | I28: 1 | J28: kN/cm²
B29: a | C29: =C12*COS(C14)/(C15*C28) -> 0.32197528 | D29: cm | H29: a | I29: =I12*COS(I14)/(I15*I28) -> 0.16098764 | J29: cm
B30: a aprox | C30: =_xlfn.CEILING.MATH(C29,0.5) -> 0.5 | D30: cm | H30: a aprox | I30: =_xlfn.CEILING.MATH(I29,0.5) -> 0.5 | J30: cm
B31: a min | C31: 15 | D31: cm | H31: a min | I31: 15 | J31: cm
B32: a adot | C32: =IF(C30>C31,C30,C31) -> 15 | D32: cm | H32: a adot | I32: =IF(I30>I31,I30,I31) -> 15 | J32: cm
B34: Nó D | H34: Nó B
B36: Entalhe | H36: Entalhe
B37: Nd | C37: 2 | D37: kN | H37: Nd | I37: 2 | J37: kN
B38: β | C38: 15 | D38: ° | H38: β | I38: 15 | J38: °
B39: β | C39: =RADIANS(C38) -> 0.26179939 | D39: rad | H39: β | I39: =RADIANS(I38) -> 0.26179939 | J39: rad
B40: b | C40: 6 | D40: cm | H40: b | I40: 6 | J40: cm
B41: h | C41: 12 | D41: cm | H41: h | I41: 12 | J41: cm
B42: f0 | C42: 2 | D42: kN/cm² | H42: f0 | I42: 2 | J42: kN/cm²
B43: f90 | C43: =0.25*C42 -> 0.5 | D43: kN/cm² | H43: f90 | I43: =0.25*I42 -> 0.5 | J43: kN/cm²
B44: fcβd | C44: =C42*C43/(C42*SIN(C39)^2+C43*COS(C39)^2) -> 1.6653318 | D44: kN/cm² | H44: fcβd | I44: =I42*I43/(I42*SIN(I39)^2+I43*COS(I39)^2) -> 1.6653318 | J44: kN/cm²
B45: Dente | H45: Dente
B46: t | C46: =C37*COS(C39)/(C40*C44) -> 0.19334002 | D46: cm | H46: t | I46: =I37*COS(I39)/(I40*I44) -> 0.19334002 | J46: cm
B47: t aprox | C47: =_xlfn.CEILING.MATH(C46,0.5) -> 0.5 | D47: cm | H47: t aprox | I47: =_xlfn.CEILING.MATH(I46,0.5) -> 0.5 | J47: cm
B48: t max | C48: =C41/4 -> 3 | D48: cm | H48: t max | I48: =I41/8 -> 1.5 | J48: cm
B49: t min | C49: =C41/8 -> 1.5 | D49: cm | H49: t min | I49: =I41/16 -> 0.75 | J49: cm
B50: t adot | C50: =IF(C48<C47,C48,IF(C47<C49,C49,C47)) -> 1.5 | D50: cm | H50: t adot | I50: =IF(I48<I47,I48,IF(I47<I49,I49,I47)) -> 0.75 | J50: cm
...
